BEGIN:VCALENDAR
VERSION:2.0
PRODID:-//ChamberMaster//Event Calendar 2.0//EN
METHOD:PUBLISH
X-PUBLISHED-TTL:P3D
REFRESH-INTERVAL:P3D
CALSCALE:GREGORIAN
BEGIN:VEVENT
DTSTART:20250819T180000Z
DTEND:20250819T184500Z
X-MICROSOFT-CDO-ALLDAYEVENT:FALSE
SUMMARY:SAFE Credit Union Financial Webinar: Savings Basics
DESCRIPTION:Building an emergency savings is the foundation of a money management plan. Saving money can be a challenge\, especially during unpredictable times. Join SAFE Credit Union's Financial Wellness Team as they discuss the benefits of saving accounts and how to save more!
X-ALT-DESC;FMTTYPE=text/html:<span style="color:rgb(74\, 74\, 74)\; font-family:outfit\,sans-serif\; font-size:16px">Building an emergency savings is the foundation of a money management plan. Saving money can be a challenge\, especially during unpredictable times. Join SAFE Credit Union&#39\;s Financial Wellness Team as they discuss the benefits of saving accounts and how to save more!</span>
LOCATION:Zoom Webinar Register here: https://safecu.zoom.us/webinar/register/3117488895111/WN_4puPRs-PQHGZVCmg2TNrPw#/registration
UID:e.2040.4229
SEQUENCE:3
DTSTAMP:20260421T212653Z
URL:https://business.rainbowchamber.com/events/details/safe-credit-union-financial-webinar-savings-basics-4229
END:VEVENT

END:VCALENDAR
