BEGIN:VCALENDAR
VERSION:2.0
PRODID:-//ChamberMaster//Event Calendar 2.0//EN
METHOD:PUBLISH
X-PUBLISHED-TTL:P3D
REFRESH-INTERVAL:P3D
CALSCALE:GREGORIAN
BEGIN:VEVENT
DTSTART:20250829T000000Z
DTEND:20250829T010000Z
X-MICROSOFT-CDO-ALLDAYEVENT:FALSE
SUMMARY:SAFE Credit Union Financial Webinar: Insider Tips on Purchasing & Refinancing a Vehicle
DESCRIPTION:Is the open road calling your name? If you're in the market now is the time to learn auto buying options that will get you on the road. Join one of SAFE's auto loan experts for insider tips on purchasing and refinancing a vehicle.
X-ALT-DESC;FMTTYPE=text/html:<span style="color:rgb(74\, 74\, 74)\; font-family:outfit\,sans-serif\; font-size:16px">Is the open road calling your name? If you&#39\;re in the market now is the time to learn auto buying options that will get you on the road. Join one of SAFE&rsquo\;s auto loan experts for insider tips on purchasing and refinancing a vehicle.&nbsp\;</span>
LOCATION:Zoom Webinar Register here: https://safecu.zoom.us/webinar/register/2117488898224/WN_lj93VFM2Sz2FIZRLLqxc8A#/registration
UID:e.2040.4230
SEQUENCE:3
DTSTAMP:20260421T212724Z
URL:https://business.rainbowchamber.com/events/details/safe-credit-union-financial-webinar-insider-tips-on-purchasing-refinancing-a-vehicle-4230
END:VEVENT

END:VCALENDAR
