BEGIN:VCALENDAR
VERSION:2.0
PRODID:-//ChamberMaster//Event Calendar 2.0//EN
METHOD:PUBLISH
X-PUBLISHED-TTL:P3D
REFRESH-INTERVAL:P3D
CALSCALE:GREGORIAN
BEGIN:VEVENT
DTSTART:20250608T003000Z
DTEND:20250608T023000Z
X-MICROSOFT-CDO-ALLDAYEVENT:FALSE
SUMMARY:Pride with Leo and Friends Dance Party
DESCRIPTION:Celebrate at the Pride with Leo and Friends Dance Party! Join SCM for museum play\, Pride activities\, and a dance party on June 7th\, 2025\, from 5:30 p.m. to 7:30 p.m.! Wear your best rainbow or celebration outfit and join in the fun. All adults must be accompanied by a child. Registration is required.\n\n \n\nWe welcome and celebrate all families at Sacramento Children's Museum and we can't wait to see you at the party. \n\nAdd an Adult or Child's SCM Pride t-shirt to your ticket by selecting that option on the form. You will pick up your t-shirt(s) at the event.
X-ALT-DESC;FMTTYPE=text/html:<div><span style="font-family:inherit\; font-size:var(--wpex-text-md)">Celebrate at the Pride with Leo and Friends Dance Party! Join SCM for museum play\, Pride activities\, and a dance party on&nbsp\;<strong>June 7th\, 2025\, from 5:30 p.m. to 7:30 p.m.</strong>! Wear your best rainbow or celebration outfit and join in the fun. All adults must be accompanied by a child. Registration is required.</span></div>\n\n<div>&nbsp\;</div>\n\n<div><span style="font-family:inherit\; font-size:var(--wpex-text-md)">We welcome and celebrate all families at Sacramento Children&rsquo\;s Museum and we can&rsquo\;t wait to see you at the party.&nbsp\;</span></div>\n\n<div><span style="font-family:inherit\; font-size:var(--wpex-text-md)">Add an Adult or Child&rsquo\;s SCM Pride t-shirt to your ticket by selecting that option on the form. You will pick up your t-shirt(s) at the event.&nbsp\;</span></div>\n
LOCATION:Sacramento Children's Museum 2701 Prospect Park Drive Rancho Cordova\, CA 95670
UID:e.2040.3779
SEQUENCE:3
DTSTAMP:20260421T194808Z
URL:https://business.rainbowchamber.com/events/details/pride-with-leo-and-friends-dance-party-3779
END:VEVENT

END:VCALENDAR
