BEGIN:VCALENDAR
VERSION:2.0
PRODID:-//ChamberMaster//Event Calendar 2.0//EN
METHOD:PUBLISH
X-PUBLISHED-TTL:P3D
REFRESH-INTERVAL:P3D
CALSCALE:GREGORIAN
BEGIN:VEVENT
DTSTART:20221029T160000Z
DTEND:20221030T000000Z
X-MICROSOFT-CDO-ALLDAYEVENT:FALSE
SUMMARY:Golden Harvest Festival
DESCRIPTION:The Golden Harvest Parade is a non-profit organization and our mission is to Unite as many ethnic groups and minorities in the greater Sacramento area together to foster unity\, harmony and peace. Our vision is to bring the ethnic groups closer together to understand each other's culture better\, fostering better communications\, and harnessing positive energy to work together to building a vibrant and healthy Sacramento community.\n\n\n\nThe event will be divided into two portions: the Parade and the Festival. The 2022 Golden Harvest Parade is scheduled for Saturday\, October 29\, 2022. The theme of 2022 will be "Unity\, Harmony\, and Peace." The parade will start on 10th/N St\, and end at the North Capital Mall. The Golden Harvest Festival will be at the CA State Historic Park in Old Sacramento on October 29\, 2022.\n\nGolden Harvest Festival Flyer
X-ALT-DESC;FMTTYPE=text/html:<span style="font-size:14px\;"><span style="font-family:arial\,sans-serif\;">The Golden Harvest Parade is a non-profit organization and our mission is to Unite as many ethnic groups and minorities in the greater Sacramento area together to foster unity\, harmony and peace.</span>&nbsp\;Our vision is to bring the ethnic groups closer together to understand each other&rsquo\;s culture better\, fostering better communications\, and harnessing positive energy to work together to building a&nbsp\;</span><span style="background-image:initial\;background-position:initial\;background-size:initial\;background-repeat:initial\;background-origin:initial\;background-clip:initial\;"><span style="font-size:14px\;">vibrant and healthy Sacramento community.</span></span><br />\n<br />\n<span style="font-size:14px\;">The event will be divided into two portions: the Parade and the Festival. The 2022 Golden Harvest Parade is scheduled for Saturday\, October 29\, 2022. The theme of 2022 will be &ldquo\;Unity\, Harmony\, and Peace.&rdquo\; The parade will start on 10th/N St\, and end at the North Capital Mall. The Golden Harvest Festival will be at the CA State Historic Park in Old Sacramento on October 29\, 2022.</span><br />\n<a href="https://chambermaster.blob.core.windows.net/userfiles/UserFiles/chambers/2040/File/2022GHPFlyer2.pdf">Golden Harvest Festival Flyer</a>
LOCATION:State Historic Park\, Old Sacramento
UID:e.2040.1541
SEQUENCE:3
DTSTAMP:20260425T015811Z
URL:https://business.rainbowchamber.com/events/details/golden-harvest-festival-1541
END:VEVENT

END:VCALENDAR
