BEGIN:VCALENDAR
VERSION:2.0
PRODID:-//ChamberMaster//Event Calendar 2.0//EN
METHOD:PUBLISH
X-PUBLISHED-TTL:P3D
REFRESH-INTERVAL:P3D
CALSCALE:GREGORIAN
BEGIN:VEVENT
DTSTART:20220904T170000Z
DTEND:20220905T010000Z
X-MICROSOFT-CDO-ALLDAYEVENT:FALSE
SUMMARY:22nd Annual Chalk It Up! Chalk Art & Music Festival
DESCRIPTION:The Chalk It Up! Chalk Art & Music Festival is a three-day celebration of local artists and the arts community -- one of the last of the free\, family-friendly festivals in Midtown Sacramento. Since 1991\, we have hosted a safe and clean festival at Fremont Park at 16th & Q Streets in Midtown Sacramento where the community can listen to live local musicians\, patronize local craft\, maker\, and food vendors in the marketplace\, and watch local artists turn the sidewalks around Fremont Park into colorful works of art. This is part performance art\, as the artists are creating the work during the festival.\n\n\n\nCommunity members come from throughout the greater Sacramento Valley region several times over the 3-day weekend to watch the art work come to life. Kids of all ages are inspired after a walk around the outside of the park to admire the work of these professional artists\, so we supply buckets of sidewalk chalk for folks to use to experiment on the interior walkways of the park.  Our 21 & over beer garden serves adult refreshments from local businesses including beer\, wine\, and cider.\n\n\n\nThe Chalk It Up Festival is a Sacramento tradition\, a gift to the community\, and we've kept it 100 percent free to the public since 1991.
X-ALT-DESC;FMTTYPE=text/html:<p><span style="background-color:transparent\; color:rgb(0\, 0\, 0)\; font-family:arial\; font-size:10.5pt">The Chalk It Up! Chalk Art &amp\; Music Festival is a three-day celebration of local artists and the arts community -- one of the last of the free\, family-friendly festivals in Midtown Sacramento. Since 1991\, we have hosted a safe and clean festival at Fremont Park at 16th &amp\; Q Streets in Midtown Sacramento where the community can listen to live local musicians\, patronize local craft\, maker\, and food vendors in the marketplace\, and watch local artists turn the sidewalks around Fremont Park into colorful works of art. This is part performance art\, as the artists are creating the work during the festival.<br />\n<br />\nCommunity members come from throughout the greater Sacramento Valley region several times over the 3-day weekend to watch the art work come to life. Kids of all ages are inspired after a walk around the outside of the park to admire the work of these professional artists\, so we supply buckets of sidewalk chalk for folks to use to experiment on the interior walkways of the park.&nbsp\; Our 21 &amp\; over beer garden serves adult refreshments from local businesses including beer\, wine\, and cider.<br />\n<br />\nThe Chalk It Up Festival is a Sacramento tradition\, a gift to the community\, and we&#39\;ve kept it 100 percent free to the public since 1991.</span></p>\n
LOCATION:Fremont Park 1515 Q Street Sacramento\, CA 95811
UID:e.2040.1520
SEQUENCE:3
DTSTAMP:20260425T000802Z
URL:https://business.rainbowchamber.com/events/details/22nd-annual-chalk-it-up-chalk-art-music-festival-09-04-2022-1520
END:VEVENT

END:VCALENDAR
